BEGIN:VCALENDAR
VERSION:2.0
PRODID:-// Stowmarket Lions club - ECPv6.15.20//NONSGML v1.0//EN
CALSCALE:GREGORIAN
METHOD:PUBLISH
X-WR-CALNAME: Stowmarket Lions club
X-ORIGINAL-URL:https://stow-lions.org.uk
X-WR-CALDESC:Events for  Stowmarket Lions club
REFRESH-INTERVAL;VALUE=DURATION:PT1H
X-Robots-Tag:noindex
X-PUBLISHED-TTL:PT1H
BEGIN:VTIMEZONE
TZID:Europe/London
BEGIN:DAYLIGHT
TZOFFSETFROM:+0000
TZOFFSETTO:+0100
TZNAME:BST
DTSTART:20220327T010000
END:DAYLIGHT
BEGIN:STANDARD
TZOFFSETFROM:+0100
TZOFFSETTO:+0000
TZNAME:GMT
DTSTART:20221030T010000
END:STANDARD
BEGIN:DAYLIGHT
TZOFFSETFROM:+0000
TZOFFSETTO:+0100
TZNAME:BST
DTSTART:20230326T010000
END:DAYLIGHT
BEGIN:STANDARD
TZOFFSETFROM:+0100
TZOFFSETTO:+0000
TZNAME:GMT
DTSTART:20231029T010000
END:STANDARD
BEGIN:DAYLIGHT
TZOFFSETFROM:+0000
TZOFFSETTO:+0100
TZNAME:BST
DTSTART:20240331T010000
END:DAYLIGHT
BEGIN:STANDARD
TZOFFSETFROM:+0100
TZOFFSETTO:+0000
TZNAME:GMT
DTSTART:20241027T010000
END:STANDARD
END:VTIMEZONE
BEGIN:VEVENT
DTSTART;TZID=Europe/London:20230611T080000
DTEND;TZID=Europe/London:20230611T153000
DTSTAMP:20260424T183938
CREATED:20200223T164113Z
LAST-MODIFIED:20230213T140941Z
UID:717-1686470400-1686497400@stow-lions.org.uk
SUMMARY:2023 Lion Ride sportive
DESCRIPTION:This event is a favourite with many cyclists.  It is a relatively flat but very pretty route through the villages of Suffolk.   \nMore information click the button below
URL:https://stow-lions.org.uk/event/lion-ride/
LOCATION:Blackbourne Community Centre\, 71 Blackbourne Road\, Elmswell\, IP30 9GY
END:VEVENT
BEGIN:VEVENT
DTSTART;TZID=Europe/London:20230611T100000
DTEND;TZID=Europe/London:20230611T130000
DTSTAMP:20260424T183938
CREATED:20230212T132711Z
LAST-MODIFIED:20230409T094118Z
UID:1249-1686477600-1686488400@stow-lions.org.uk
SUMMARY:Lion sponsored fun cycle ride
DESCRIPTION:Stowmarket Lions are holding a fun ride to help raise money for Marie Curie and Lions charities.  A gentle ride through the countryside\, bring a picnic if you like\, or take refreshments back at HQ.  This is on the same day as a sportive\, and you can register for either.  The start times will keep the riders separate as far as possible.
URL:https://stow-lions.org.uk/event/lion-sponsored-fun-ride/
END:VEVENT
END:VCALENDAR